BEGIN:VCALENDAR
VERSION:2.0
PRODID:-//hacksw/handcal//NONSGML v1.0//EN
BEGIN:VEVENT
UID:ed7cd5d20e9beedb4f062b00f338930a
DTSTAMP:20260420T002914Z

DTSTART:20190623T103000
DTEND:20190623T103000
SUMMARY:Eerste training 2
DESCRIPTION:[STAND EREDIVISIE]  [WEDSTRIJDEN]  [TOPSCOORDERS]  [1STE DIV]

X-ALT-DESC;FMTTYPE=text/html:<!DOCTYPE HTML PUBLIC "-//W3C//DTD HTML 3.2//EN">\n<HTML>\n<HEAD>\n<META NAME="Generator" CONTENT="MS Exchange Server version 08.00.0681.000">\n<TITLE></TITLE>\n</HEAD>\n<BODY>\n<!-- Converted from text/rtf format -->\n\n<center>[<a title="Stand" href="stand">STAND EREDIVISIE</a>]  [<a title="Wedstrijden" href="wedstrijden-eredivisie">WEDSTRIJDEN</a>]  [<a title="Topscoorders" href="topscoorders">TOPSCOORDERS</a>]  [<a title="Eerste divisie" href="blog/wedstrijden-eerstedivisie">1STE DIV</a>]</center>\n\n</BODY>\n</HTML>

LOCATION:Papendallaan 8, 6816 VD Arnhem, Nederland
END:VEVENT

END:VCALENDAR
