BEGIN:VCALENDAR
VERSION:2.0
PRODID:-//hacksw/handcal//NONSGML v1.0//EN
BEGIN:VEVENT
UID:62a0bbf4eb6cb3738ecad5a722117808
DTSTAMP:20260419T142444Z

DTSTART:20200314T204500
DTEND:20200314T204500
SUMMARY:FC Corona - Vitesse ☼
DESCRIPTION:Afgelast

X-ALT-DESC;FMTTYPE=text/html:<!DOCTYPE HTML PUBLIC "-//W3C//DTD HTML 3.2//EN">\n<HTML>\n<HEAD>\n<META NAME="Generator" CONTENT="MS Exchange Server version 08.00.0681.000">\n<TITLE></TITLE>\n</HEAD>\n<BODY>\n<!-- Converted from text/rtf format -->\n\n<p>Afgelast</p>\n\n</BODY>\n</HTML>

LOCATION:Herculesplein 241, 3584 AA Utrecht, Nederland
END:VEVENT

END:VCALENDAR
