BEGIN:VCALENDAR
VERSION:2.0
PRODID:-//hacksw/handcal//NONSGML v1.0//EN
BEGIN:VEVENT
UID:6b02c0ec1dc0c1a6216ba0d5f87a2ce8
DTSTAMP:20260419T192403Z

DTSTART:20180726T170000
DTEND:20180726T170000
SUMMARY:FC Viitorul - Vitesse
DESCRIPTION:Vitesse programma/uitslagen

X-ALT-DESC;FMTTYPE=text/html:<!DOCTYPE HTML PUBLIC "-//W3C//DTD HTML 3.2//EN">\n<HTML>\n<HEAD>\n<META NAME="Generator" CONTENT="MS Exchange Server version 08.00.0681.000">\n<TITLE></TITLE>\n</HEAD>\n<BODY>\n<!-- Converted from text/rtf format -->\n\n<p><a title="Vitesse programma/uitslagen" href="https://www.fcupdate.nl/voetbalclubs/25/vitesse/programma/" target="_blank" rel="noopener noreferrer">Vitesse programma/uitslagen</a></p>\n\n</BODY>\n</HTML>

LOCATION:
END:VEVENT

END:VCALENDAR
