BEGIN:VCALENDAR
VERSION:2.0
PRODID:-//hacksw/handcal//NONSGML v1.0//EN
BEGIN:VEVENT
UID:fcaf9daf958f49e94642856aaa86e9f4
DTSTAMP:20260420T004058Z

DTSTART:20180922T204500
DTEND:20180922T204500
SUMMARY:Vitesse - Den Haag
DESCRIPTION:Vitesse programma/uitslagen\n\n \n\n 

X-ALT-DESC;FMTTYPE=text/html:<!DOCTYPE HTML PUBLIC "-//W3C//DTD HTML 3.2//EN">\n<HTML>\n<HEAD>\n<META NAME="Generator" CONTENT="MS Exchange Server version 08.00.0681.000">\n<TITLE></TITLE>\n</HEAD>\n<BODY>\n<!-- Converted from text/rtf format -->\n\n<p><a title="Vitesse programma/uitslagen" href="https://www.fcupdate.nl/voetbalclubs/25/vitesse/programma/" target="_blank" rel="noopener noreferrer">Vitesse programma/uitslagen</a></p><div class="p8Qosf"> </div><div class="dtaVuc OY8yJd LbTWpe"> </div>\n\n</BODY>\n</HTML>

LOCATION:Batavierenweg 25, 6841 HN Arnhem, Nederland
END:VEVENT

END:VCALENDAR
