BEGIN:VCALENDAR
VERSION:2.0
PRODID:-//hacksw/handcal//NONSGML v1.0//EN
BEGIN:VEVENT
UID:7770a3a5c31e5e26af9c48d0731efc8d
DTSTAMP:20260420T004640Z

DTSTART:20180812T143000
DTEND:20180812T143000
SUMMARY:Vitesse - FC Groningen
DESCRIPTION:Vitesse programma/uitslagen

X-ALT-DESC;FMTTYPE=text/html:<!DOCTYPE HTML PUBLIC "-//W3C//DTD HTML 3.2//EN">\n<HTML>\n<HEAD>\n<META NAME="Generator" CONTENT="MS Exchange Server version 08.00.0681.000">\n<TITLE></TITLE>\n</HEAD>\n<BODY>\n<!-- Converted from text/rtf format -->\n\n<p><a title="Vitesse programma/uitslagen" href="https://www.fcupdate.nl/voetbalclubs/25/vitesse/programma/" target="_blank" rel="noopener noreferrer">Vitesse programma/uitslagen</a></p>\n\n</BODY>\n</HTML>

LOCATION:Batavierenweg 25, 6841 HN Arnhem, Nederland
END:VEVENT

END:VCALENDAR
