BEGIN:VCALENDAR
VERSION:2.0
PRODID:-//hacksw/handcal//NONSGML v1.0//EN
BEGIN:VEVENT
UID:bd892db423b370d446b6f51b78b20ce5
DTSTAMP:20260419T192551Z

DTSTART:20190216T204500
DTEND:20190216T204500
SUMMARY:Vitesse - Willem II
DESCRIPTION:[STAND EREDIVISIE]  [WEDSTRIJDEN]  [TOPSCOORDERS]  [1STE DIV]

X-ALT-DESC;FMTTYPE=text/html:<!DOCTYPE HTML PUBLIC "-//W3C//DTD HTML 3.2//EN">\n<HTML>\n<HEAD>\n<META NAME="Generator" CONTENT="MS Exchange Server version 08.00.0681.000">\n<TITLE></TITLE>\n</HEAD>\n<BODY>\n<!-- Converted from text/rtf format -->\n\n<center>[<a title="Stand" href="stand">STAND EREDIVISIE</a>]  [<a title="Wedstrijden" href="wedstrijden-eredivisie">WEDSTRIJDEN</a>]  [<a title="Topscoorders" href="topscoorders">TOPSCOORDERS</a>]  [<a title="Eerste divisie" href="blog/wedstrijden-eerstedivisie">1STE DIV</a>]</center>\n\n</BODY>\n</HTML>

LOCATION:Batavierenweg 25, 6841 HN Arnhem, Nederland
END:VEVENT

END:VCALENDAR
