BEGIN:VCALENDAR
VERSION:2.0
PRODID:-//hacksw/handcal//NONSGML v1.0//EN
BEGIN:VEVENT
UID:33701599fde4373d9a431b65dc717b59
DTSTAMP:20260423T104312Z

DTSTART:20180916T164500
DTEND:20180916T164500
SUMMARY:Zwolle - Vitesse
DESCRIPTION:Vitesse programma/uitslagen\n\n \n\n 

X-ALT-DESC;FMTTYPE=text/html:<!DOCTYPE HTML PUBLIC "-//W3C//DTD HTML 3.2//EN">\n<HTML>\n<HEAD>\n<META NAME="Generator" CONTENT="MS Exchange Server version 08.00.0681.000">\n<TITLE></TITLE>\n</HEAD>\n<BODY>\n<!-- Converted from text/rtf format -->\n\n<p><a title="Vitesse programma/uitslagen" href="https://www.fcupdate.nl/voetbalclubs/25/vitesse/programma/" target="_blank" rel="noopener noreferrer">Vitesse programma/uitslagen</a></p><div class="p8Qosf"> </div><div class="dtaVuc OY8yJd LbTWpe" dataeventid="dmQ3MWZnOXUzdWFyNDVtaDRsaGJxNDdubDQgNDZpbXFvZ25iMGY3bHVlb2IxYTdkbmJrZ2dAZw" dataopensdetails="true" datakeyboardactiontype="0;1"> </div>\n\n</BODY>\n</HTML>

LOCATION:stadionplein 1, 8025 CP Zwolle, Nederland
END:VEVENT

END:VCALENDAR
